BEGIN:VCALENDAR
VERSION:2.0
PRODID:-//https://awg.innoworx.ch///NONSGML kigkonsult.se iCalcreator 2.10.15//
METHOD:PUBLISH
BEGIN:VEVENT
UID:20260422T120028CEST-0115S3eFHE@https://awg.innoworx.ch/
DTSTAMP:20260422T100028Z
DESCRIPTION:Auch an unserem letzten Anlass in diesem Jahr kommen die AWG-Mi
 tglieder in den Genuss von drei Exklusivit&auml\;ten:\nErste Exklusvit&aum
 l\;t\nDer Einblick in eine unbekannte Welt der Wirtschaft: Die SUISAG ist 
 das innovative\, wertorientierte Unternehmen f&uuml\;r Schweizer Schweinep
 roduzenten und internationalen Genetik-Kunden. Sie ist mit 100 Mitarbeiten
 den an in- und ausl&auml\;ndischen Standorten f&uuml\;hrend in der Schweiz
 er Genetik\, Gesundheitsprogrammen und im Service. Die SUISAG hat eine ein
 e klare Mission: erfolgreiche und anerkannt verantwortungsvolle Schweineha
 ltung.\nZweite Exklusivit&auml\;t\nDie AWG ist nach dem Neubau in Sempach 
 die erste externe Gruppe\, die f&uuml\;r einen Unternehmensbesuch empfange
 n wird. Wir wissen das zu sch&auml\;tzen und freuen uns\, diesen Betrieb m
 it 100 Mitarbeitenden an nationalen und internationalen Standorten kennenz
 ulernen.\nDritte Exklusivit&auml\;t\nDer beliebte &laquo\;Runde Tisch&raqu
 o\; mit Spitzenleuten der Luzerner Politik kann auch in Zeiten der Pandemi
 e stattfinden. Was uns auf nationaler und kantonaler Ebene besch&auml\;fti
 gt\, steht im Mittelpunkt des &laquo\;Runden Tisches&raquo\;: der zunehmen
 d tiefe Graben\, der die Gesellschaft in gewissen Themen spaltet.\nDas Pro
 gramm\n&nbsp\;\n18:00 Uhr: Begr&uuml\;ssung\nStefan Portmann / Vorstand AW
 G Kanton Luzern\nSUISAG - das innovative Unternehmen f&uuml\;r die Schwein
 ebranche\nLeo M&uuml\;ller / Verwaltungsratspr&auml\;sident SUISAG/Nationa
 lrat\nSUISAG - die Strategie in einem ges&auml\;ttigten Markt\nDr. Matteo 
 Aepli / Gesch&auml\;ftsf&uuml\;hrer SUISAG\n19:15 Uhr: Begr&uuml\;ssung\nJ
 osef Wyss / Pr&auml\;sident AWG Kanton Luzern\nRunder Tisch mit\n\nGuido G
 raf\, Regierungsrat\nReto Wyss\, Regierungsrat\nAndrea Gm&uuml\;r\, St&aum
 l\;nder&auml\;tin\nIda Glanzmann-Hunkeler\, Nationalr&auml\;tin\nLeo M&uum
 l\;ller\, Nationalrat\nPriska Wismer\, Nationalr&auml\;tin\n\nModeration: 
 Oliver Kuhn\n20:00 Uhr: Imbiss\n&nbsp\;\nAchtung:&nbsp\;Zutritt nur mit g&
 uuml\;ltigem Covid-Zertifikat. Danke f&uuml\;r das Verst&auml\;ndnis.
DTSTART:20211104T170000Z
DTEND:20211104T210000Z
LOCATION:Allmend 10 in 6204 Sempach ()
SUMMARY:Unternehmensbesuch – Runder Tisch
END:VEVENT
END:VCALENDAR
