BEGIN:VCALENDAR
VERSION:2.0
PRODID:-//https://awg.innoworx.ch///NONSGML kigkonsult.se iCalcreator 2.10.15//
METHOD:PUBLISH
BEGIN:VEVENT
UID:20260422T102800CEST-5795JVA61u@https://awg.innoworx.ch/
DTSTAMP:20260422T082800Z
DESCRIPTION:17:00 Uhr - Das Unternehmen\nAuf den Tag genau 100 Jahre\, 1 Mo
 nat und 3 Tage nach der Gr&uuml\;ndung sind wir zu Gast bei der Migros Luz
 ern. Zu Gast sind wir im Epizentrum des gr&ouml\;ssten Arbeitgebers der Ze
 ntralschweiz. Erleben Sie in dieser besonders intensiven Tageszeit\, wie d
 ie beeindruckende Logistik funktioniert. Dazu werden wir aus erster Hand &
 uuml\;ber den aktuellen Transformationsprozess informiert.\nBegr&uuml\;ssu
 ng\nInge Lichtsteiner\, Vizepr&auml\;sidentin AWG\nKr&auml\;fte b&uuml\;nd
 eln &ndash\; Zukunft gestalten: Transformationsprozess im Jubil&auml\;umsj
 ahr\nGuido Rast\, Gesch&auml\;ftsleiter Migros Luzern\nF&uuml\;hrung in Gr
 uppen\n&nbsp\;\n19:00 Uhr - Das Thema\nWie kaufen wir ein - heute\, morgen
 \, &uuml\;bermorgen? Der Transformationsprozess der Migros findet im Konte
 xt solcher Fragen statt: gesellschaftlicher Wandel\, die Rollen der Anbiet
 er\, die Verantwortung der Konsumierenden und politische Rahmen- bedingung
 en. Dazu haben wir spannende G&auml\;ste eingeladen.\nBegr&uuml\;ssung\nJo
 sef Wyss\, Pr&auml\;sident AWG\nLuzern Trends im Detailhandel\nDr. Gianluc
 a Scheidegger\, Konsumforscher am Gottlieb Duttweiler Institut\nPanel\n\nM
 artina Stutz\, Pr&auml\;sidentin Detaillistenverband Kanton Luzern\nFredy 
 Landolt\, Pr&auml\;sident City Vereinigung Luzern\nGuido Rast\, Gesch&auml
 \;ftsleiter Migros Luzern\nDr. Gianluca Scheidegger\, GDI\n\nModeration\nK
 urt Bischof\n20:00 Uhr - Ap&eacute\;ro und Begegnungen
DTSTART:20250918T150000Z
DTEND:20250918T200000Z
LOCATION:Migros Luzern\, Dierikon ()
SUMMARY:Detailhandel im grossen Wandel
END:VEVENT
END:VCALENDAR
