BEGIN:VCALENDAR
VERSION:2.0
PRODID:-//https://awg.innoworx.ch///NONSGML kigkonsult.se iCalcreator 2.10.15//
METHOD:PUBLISH
BEGIN:VEVENT
UID:20260422T103133CEST-8871AnkDlt@https://awg.innoworx.ch/
DTSTAMP:20260422T083133Z
DESCRIPTION:Anlass AUSGEBUCHT! Es k&ouml\;nnen leider keine Anmeldungen meh
 r angenommen werden.\n&nbsp\;\n&nbsp\;\n17.15 Uhr &ndash\; Das Unternehmen
 \nHaslimann Aufz&uuml\;ge ist ein familiengef&uuml\;hrtes KMU &ndash\; f&u
 uml\;r die Luzerner KMU-Landschaft typisch und richtig sympathisch! Gegr&u
 uml\;ndet 1949 hat Haslimann nie Starall&uuml\;ren entwickelt. Die rund 13
 0 Mitarbeitenden m&uuml\;ssen sich aber nicht verstecken. Mit Tradition un
 d Innovation ist Haslimann im international dominierten Liftmarkt erfolgre
 ich unterwegs. Im soeben bezogenen Neubau erhalten wir Einblick in die fas
 zinierende Welt der Liftproduktion.\nBegr&uuml\;ssung:&nbsp\;Corinne Zurgi
 lgen\, Vorstandsmitglied AWG\nHaslimann Aufz&uuml\;ge: Erfolg im harten Um
 feld Markus Haslimann\, Inhaber und Gesch&auml\;ftsf&uuml\;hrer\nF&uuml\;h
 rung in Gruppen\n&nbsp\;\n19.00 Uhr Das Thema\nWie schaffen wir es\, dass 
 sich die Mitarbeitenden wohl f&uuml\;hlen\, jeden Tag gerne zur Arbeit kom
 men und top Leistungen abliefern? Wie f&ouml\;rdern wir Produktivit&auml\;
 t und Identit&auml\;t? Gibt es Zusammen- h&auml\;nge zwischen Unternehmens
 strategie\, Unternehmenskultur und Fachkr&auml\;ftemangel? Wir lernen die 
 Unternehmenskultur eines KMU und eines Konzerns kennen und erhalten aus de
 r Wissenschaft Tipps f&uuml\;r die Praxis.\nBegr&uuml\;ssung: Josef Wyss\,
  Pr&auml\;sident AWG Luzern\nPanel Unternehmenskultur\nSo machen wir&rsquo
 \;s bei Haslimann\n\nDie Stimme des Haslimann-Personals\nMarkus Haslimann 
 Inhaber Haslimann Aufz&uuml\;ge\n\nSo machen wir&rsquo\;s bei der CSS\n\nG
 uido Schnarwiler HR Berater/F&uuml\;hrungs- und Organisationsentwicklung\n
 \nReferat Unternehmenskultur (Sinn-Erlebnisse erm&ouml\;glichen)\n\nDr. Pe
 ter Senn\, Co-Leiter Major HRM\, Hochschule Luzern Wirtschaft\n\nModeratio
 n: Kurt Bischof\n20.00 Uhr Ap&eacute\;ro und Begegnungen
DTSTART:20251120T161500Z
DTEND:20251120T210000Z
LOCATION:Haslimann Aufzüge AG\, Gunzwil ()
SUMMARY:Unternehmenskultur: Damit sie gelingt und beflügelt!
END:VEVENT
END:VCALENDAR
