BEGIN:VCALENDAR
VERSION:2.0
PRODID:-//https://awg.innoworx.ch///NONSGML kigkonsult.se iCalcreator 2.10.15//
METHOD:PUBLISH
BEGIN:VEVENT
UID:20260422T103207CEST-2265PfM3Fw@https://awg.innoworx.ch/
DTSTAMP:20260422T083207Z
DESCRIPTION:Marius Fischer\, Gesch&auml\;ftsleiter / Inhaber
DTSTART:20260701T150000Z
DTEND:20260701T190000Z
LOCATION:Viscosistadt\, Emmenbrücke ()
SUMMARY:BE Netz Bau und Energie AG\, Luzern und 42. Generalversammlung
END:VEVENT
END:VCALENDAR
